BEGIN:VCALENDAR
VERSION:2.0
PRODID:-//ChamberMaster//Event Calendar 2.0//EN
METHOD:PUBLISH
X-PUBLISHED-TTL:P3D
REFRESH-INTERVAL:P3D
CALSCALE:GREGORIAN
BEGIN:VEVENT
DTSTART:20190617T130000Z
DTEND:20190621T173000Z
X-MICROSOFT-CDO-ALLDAYEVENT:FALSE
SUMMARY:Camp Craddock
DESCRIPTION:"CAMP CRADDOCK" AT HOLY FAMILY CHURCH IN JUNE 2019 During the week of June 17\, 2019\, the Episcopal Church of the Holy Family will collaborate with the Boys and Girls Club of Pickens County to provide a pilot program of Camp Craddock on the 40-acre Holy Family campus in Jasper. Utilizing the Nature Trails\, ample green space\, and conference facility with covered pavilion\, the 50 children will have plenty of room for hiking and exercise\, as well as arts and craft experiences. A story from the "book of the day" will set the theme\, and children will learn songs\, play games\, and create their own theme-related "snacks" to eat. Volunteers will help direct activities and oversee the safety and well-being of the campers. Although the children in the Boys and Girls Club program can attend during the summer\, the day camp experience will be new for them. 501c3
X-ALT-DESC;FMTTYPE=text/html:&ldquo\;CAMP CRADDOCK&rdquo\; AT HOLY FAMILY CHURCH IN JUNE 2019 During the week of June 17\, 2019\, the Episcopal Church of the Holy Family will collaborate with the Boys and Girls Club of Pickens County to provide a pilot program of Camp Craddock on the 40-acre Holy Family campus in Jasper. Utilizing the Nature Trails\, ample green space\, and conference facility with covered pavilion\, the 50 children will have plenty of room for hiking and exercise\, as well as arts and craft experiences. A story from the &ldquo\;book of the day&rdquo\; will set the theme\, and children will learn songs\, play games\, and create their own theme-related &ldquo\;snacks&rdquo\; to eat. Volunteers will help direct activities and oversee the safety and well-being of the campers. Although the children in the Boys and Girls Club program can attend during the summer\, the day camp experience will be new for them. 501c3
LOCATION:Holy Family Episcopal Church Campus
UID:e.582.25368
SEQUENCE:3
DTSTAMP:20260421T030516Z
URL:http://pickenscountychamber.chambermaster.com/events/details/camp-craddock-25368
END:VEVENT

END:VCALENDAR
